BEGIN:VCALENDAR
VERSION:2.0
PRODID:-//ChamberMaster//Event Calendar 2.0//EN
METHOD:PUBLISH
X-PUBLISHED-TTL:P3D
REFRESH-INTERVAL:P3D
CALSCALE:GREGORIAN
BEGIN:VEVENT
DTSTART:20260112T160000Z
DTEND:20260310T000000Z
X-MICROSOFT-CDO-ALLDAYEVENT:FALSE
SUMMARY:Winter Reading 2026
DESCRIPTION:Join the wintry fun in 2026 at the Spring Green Community Library. Our reading challenge runs from January 12th through March 9th. This challenge is for both children and adults! \n\nPick up a Winter Reading Challenge BINGO sheet and complete as many challenges as you can! When you complete a full row\, bring your BINGO sheet into the library.\n\nEarn a small prize for every BINGO marked off. A full sheet completed (all 25 challenges) earns a ticket for a chance to win the Grand Prize drawing!
X-ALT-DESC;FMTTYPE=text/html:<p>Join the wintry fun in 2026 at the Spring Green Community Library. Our reading challenge runs from January 12th through March 9th. This challenge is for both children and adults!&nbsp\;</p>\n\n<p>Pick up a Winter Reading Challenge BINGO sheet and complete as many challenges as you can! When you complete a full row\, bring your BINGO sheet into the library.</p>\n\n<p>Earn a small prize for every BINGO marked off. A full sheet completed (all 25 challenges) earns a ticket for a chance to win the Grand Prize drawing!&nbsp\;</p>\n
LOCATION:Spring Green Community Library 230 E Monroe Street Spring Green\, WI 53588
UID:e.3298.5374
SEQUENCE:3
DTSTAMP:20260421T084007Z
URL:https://business.springgreen.com/events/details/winter-reading-2026-5374
END:VEVENT

END:VCALENDAR
