BEGIN:VCALENDAR
VERSION:2.0
PRODID:-//ChamberMaster//Event Calendar 2.0//EN
METHOD:PUBLISH
X-PUBLISHED-TTL:P3D
REFRESH-INTERVAL:P3D
CALSCALE:GREGORIAN
BEGIN:VEVENT
DTSTART:20260821T173000Z
DTEND:20260823T200000Z
X-MICROSOFT-CDO-ALLDAYEVENT:FALSE
SUMMARY:Weekend Workshop: Intermediate Plein Air Painting
DESCRIPTION:Experience Taliesin - Frank Lloyd Wright's 800-acre estate in Spring Green - while enhancing your plein air painting skills in this weekend workshop with Jan Norsetter. Designed for intermediate to experienced artists\, you'll refine techniques in value\, composition\, and capturing the essence of nature.
X-ALT-DESC;FMTTYPE=text/html:Experience Taliesin - Frank Lloyd Wright&rsquo\;s 800-acre estate in Spring Green - while enhancing your plein air painting skills in this weekend workshop with Jan Norsetter. Designed for intermediate to experienced artists\, you&rsquo\;ll refine techniques in value\, composition\, and capturing the essence of nature.&nbsp\;
LOCATION:Frank Lloyd Wright Visitor Center
UID:e.3298.5432
SEQUENCE:3
DTSTAMP:20260421T174425Z
URL:https://business.springgreen.com/events/details/weekend-workshop-intermediate-plein-air-painting-5432
END:VEVENT

END:VCALENDAR
