BEGIN:VCALENDAR
VERSION:2.0
PRODID:-//ChamberMaster//Event Calendar 2.0//EN
METHOD:PUBLISH
X-PUBLISHED-TTL:P3D
REFRESH-INTERVAL:P3D
CALSCALE:GREGORIAN
BEGIN:VEVENT
DTSTART:20211207T233000Z
DTEND:20211208T010000Z
X-MICROSOFT-CDO-ALLDAYEVENT:FALSE
SUMMARY:Virtual Family Trivia Night
DESCRIPTION:Join us virtually for a family trivia night! From world history and science to sports and pop culture\, this event is geared for families with kids from ages 5-12\, but everyone is welcome!  Families that join will be eligible to win free books and more!
X-ALT-DESC;FMTTYPE=text/html:Join us virtually for a family trivia night! From world history and science to sports and pop culture\, this event is geared for families with kids from ages 5-12\, but everyone is welcome!&nbsp\; Families that join will be eligible to win free books and more!
LOCATION:Spring Green Community Library 230 E Monroe Street Spring Green\, WI 53588
UID:e.3298.2860
SEQUENCE:3
DTSTAMP:20260421T090142Z
URL:https://business.springgreen.com/events/details/virtual-family-trivia-night-2860
END:VEVENT

END:VCALENDAR
