BEGIN:VCALENDAR
VERSION:2.0
PRODID:-//ChamberMaster//Event Calendar 2.0//EN
METHOD:PUBLISH
X-PUBLISHED-TTL:P3D
REFRESH-INTERVAL:P3D
CALSCALE:GREGORIAN
BEGIN:VEVENT
DTSTART:20260516T230000Z
DTEND:20260517T010000Z
X-MICROSOFT-CDO-ALLDAYEVENT:FALSE
SUMMARY:Square Dance at the Octagon Barn
DESCRIPTION:Grab your partner and do-si-do on over to the Octagon Barn on May 16th for a fun evening of Square Dancing!\n\nLed by caller Mike Mossman\, the Driftless Square Jammers will bring their collective decades of musical experience to the Octagon Barn. The evening will take place from 6pm-8pm on May 16th at the Octagon Barn\, E4350 Horseshoe Rd\, Spring Green.  Beverages will be available for purchase. \n\nSquare dancing\, otherwise known as barn dancing\, has deep roots in American rural life and is a fun way for community members to meet\, and literally reach out\, to their neighbors on the floor.  The caller will give instructions on how to square dance\, so even beginners will soon find themselves promenading with ease. And if you just want to come and tap your toes and enjoy the music and camaraderie\, please do!\n\nFree will donation at the door for River Valley ARTS and tips for the musicians are welcome.
X-ALT-DESC;FMTTYPE=text/html:<p><span style="background-color:transparent\; color:rgb(0\, 0\, 0)\; font-family:arial\,sans-serif\; font-size:11pt">Grab your partner and do-si-do on over to the Octagon Barn on May 16th for a fun evening of Square Dancing!</span></p>\n\n<p><span style="background-color:transparent\; color:rgb(0\, 0\, 0)\; font-family:arial\,sans-serif\; font-size:11pt">Led by caller Mike Mossman\, the Driftless Square Jammers will bring their collective decades of musical experience to the Octagon Barn. The evening will take place from 6pm-8pm on May 16th at the Octagon Barn\, E4350 Horseshoe Rd\, Spring Green.&nbsp\; Beverages will be available for purchase.&nbsp\;</span></p>\n\n<p><span style="background-color:transparent\; color:rgb(0\, 0\, 0)\; font-family:arial\,sans-serif\; font-size:11pt">Square dancing\, otherwise known as barn dancing\, has deep roots in American rural life and is a fun way for community members to meet\, and literally reach out\, to their neighbors on the floor.&nbsp\; The caller will give instructions on how to square dance\, so even beginners will soon find themselves promenading with ease. And if you just want to come and tap your toes and enjoy the music and camaraderie\, please do!</span></p>\n\n<p><span style="background-color:transparent\; color:rgb(0\, 0\, 0)\; font-family:arial\,sans-serif\; font-size:11pt">Free will donation at the door for River Valley ARTS and tips for the musicians are welcome.&nbsp\;</span></p>\n\n<p>&nbsp\;</p>\n\n<div>&nbsp\;</div>\n
LOCATION:Octagon Barn\, E4350 Horseshoe Road\, Spring Green
UID:e.3298.5531
SEQUENCE:3
DTSTAMP:20260421T123943Z
URL:https://business.springgreen.com/events/details/square-dance-at-the-octagon-barn-5531
END:VEVENT

END:VCALENDAR
