BEGIN:VCALENDAR
VERSION:2.0
PRODID:-//ChamberMaster//Event Calendar 2.0//EN
METHOD:PUBLISH
X-PUBLISHED-TTL:P3D
REFRESH-INTERVAL:P3D
CALSCALE:GREGORIAN
BEGIN:VEVENT
DTSTART:20260203T223000Z
DTEND:20260204T010000Z
X-MICROSOFT-CDO-ALLDAYEVENT:FALSE
SUMMARY:Spring Green Lions Club Spaghetti Dinner
DESCRIPTION:The Spring Green Lions Club's Annual Spaghetti Dinner is on Tuesday\, February 3 from 4:30pm to 7pm at Arthur's Supper Club.  \n\n\n\nAll proceeds will go to buy new raisers at the RV Intermediate School. \n\n\n\nTickets are on sale now. You can purchase them from a Lion or at Pamela's Jewelry Store or Arthur's Supper Club. \n\n\n\nTickets are $10.00 for an adult\, and $6.00 for a child (K-8th). This price increases by a dollar at the door. \n\n\n\nQuestions or if you need tickets\, contact Emily Whitmore at 208-312-5887
X-ALT-DESC;FMTTYPE=text/html:<p>The Spring Green Lions Club&#39\;s Annual Spaghetti Dinner is on Tuesday\, February 3 from 4:30pm to 7pm at Arthur&#39\;s Supper Club.&nbsp\;&nbsp\;<br />\n<br />\nAll proceeds will go to buy new raisers at the RV Intermediate School.&nbsp\;<br />\n<br />\nTickets are on sale now. You can purchase them from a Lion or at Pamela&#39\;s Jewelry Store or Arthur&#39\;s Supper Club.&nbsp\;<br />\n<br />\nTickets are $10.00 for an adult\, and $6.00 for a child (K-8th). This price increases by a dollar at the door.&nbsp\;<br />\n<br />\nQuestions or if you need tickets\, contact Emily Whitmore at 208-312-5887</p>\n
LOCATION:Arthur's Supper Club
UID:e.3298.5371
SEQUENCE:3
DTSTAMP:20260421T084837Z
URL:https://business.springgreen.com/events/details/spring-green-lions-club-spaghetti-dinner-02-03-2026-5371
END:VEVENT

END:VCALENDAR
