BEGIN:VCALENDAR
VERSION:2.0
PRODID:-//ChamberMaster//Event Calendar 2.0//EN
METHOD:PUBLISH
X-PUBLISHED-TTL:P3D
REFRESH-INTERVAL:P3D
CALSCALE:GREGORIAN
BEGIN:VEVENT
DTSTART;VALUE=DATE:20260627
DTEND;VALUE=DATE:20260629
TRANSP:TRANSPARENT
X-MICROSOFT-CDO-ALLDAYEVENT:TRUE
SUMMARY:Spring Green Arts & Craft Fair
DESCRIPTION:Celebrate creativity at the Spring Green Art Fair. Explore the works from over 180 artists-featuring pottery\, paintings\, jewelry\, woodwork\, and more! Enjoy live music\, local food vendors\, and fun for the whole family-all in one of Wisconsin's most charming small towns. Gift Cards for purchase are available at a few local businesses.
X-ALT-DESC;FMTTYPE=text/html:<span style="color:rgb(68\, 68\, 68)\; font-family:oxygen\,sans-serif\; font-size:16px">Celebrate creativity at the Spring Green Art Fair. Explore the works from over 180 artists-featuring pottery\, paintings\, jewelry\, woodwork\, and more! Enjoy live music\, local food vendors\, and fun for the whole family-all in one of Wisconsin&#39\;s most charming small towns. Gift Cards for purchase are available at a few local businesses.</span>
LOCATION:Downtown Spring Green\, Jefferson Street
UID:e.3298.5254
SEQUENCE:3
DTSTAMP:20260421T142424Z
URL:https://business.springgreen.com/events/details/spring-green-arts-craft-fair-5254
END:VEVENT

END:VCALENDAR
