BEGIN:VCALENDAR
VERSION:2.0
PRODID:-//ChamberMaster//Event Calendar 2.0//EN
METHOD:PUBLISH
X-PUBLISHED-TTL:P3D
REFRESH-INTERVAL:P3D
CALSCALE:GREGORIAN
BEGIN:VEVENT
DTSTART:20260305T213000Z
DTEND:20260305T223000Z
X-MICROSOFT-CDO-ALLDAYEVENT:FALSE
SUMMARY:Read to a Dog - CANCELLED
DESCRIPTION:Reading to a dog is a wonderful way to build reading skills and confidence. Readers ages 5-12 can sign up for a 15-minute slot to sit down and read aloud with Luna\, a registered therapy dog. Bring a favorite book or try a new one from our collection. \n\nWe will have four sessions this year:\n\n\n	Thursday\, March 5\, 12\, and 19 from 3:30-4:30p\n	Tuesday\, June 2\, 9\, and 16 from 4-5p\n	Thursday\, August 6\, 13\, and 20 from 3:30-4:30p\n	Thursday\, October 1\, 8\, and 15 from 4-5p\n\n\nIf you sign up for a session\, it is recommended that you attend at least two of the sessions. \n\n \n\nTo Sign up: https://forms.gle/nsP7zCAvUJd63eTVA\n\nOpen to ages 5-12 and their caregivers. Registration and caregiver attendance is required.
X-ALT-DESC;FMTTYPE=text/html:<p>Reading to a dog is a wonderful way to build reading skills and confidence. Readers ages 5-12 can sign up for a 15-minute slot to sit down and read aloud with Luna\, a registered therapy dog. Bring a favorite book or try a new one from our collection.&nbsp\;</p>\n\n<p>We will have four sessions this year:</p>\n\n<ul>\n	<li>Thursday\, March 5\, 12\, and 19 from 3:30-4:30p</li>\n	<li>Tuesday\, June 2\, 9\, and 16 from 4-5p</li>\n	<li>Thursday\, August 6\, 13\, and 20 from 3:30-4:30p</li>\n	<li>Thursday\, October 1\, 8\, and 15 from 4-5p</li>\n</ul>\n\n<div>If you sign up for a session\, it is recommended that you attend at least two of the sessions.&nbsp\;</div>\n\n<div>&nbsp\;</div>\n\n<div>To Sign up: <a href="https://forms.gle/nsP7zCAvUJd63eTVA" tabindex="-1" target="_blank">https://forms.gle/nsP7zCAvUJd63eTVA</a></div>\n\n<p>Open to ages 5-12 and their caregivers. <strong>Registration and caregiver attendance is required.</strong></p>\n
LOCATION:Spring Green Community Library 230 E Monroe Street Spring Green\, WI 53588
UID:e.3298.5418
SEQUENCE:3
DTSTAMP:20260421T084610Z
URL:https://business.springgreen.com/events/details/read-to-a-dog-02-05-2026-5418
END:VEVENT

END:VCALENDAR
