BEGIN:VCALENDAR
VERSION:2.0
PRODID:-//ChamberMaster//Event Calendar 2.0//EN
METHOD:PUBLISH
X-PUBLISHED-TTL:P3D
REFRESH-INTERVAL:P3D
CALSCALE:GREGORIAN
BEGIN:VEVENT
DTSTART:20260224T010000Z
DTEND:20260224T020000Z
X-MICROSOFT-CDO-ALLDAYEVENT:FALSE
SUMMARY:Presentation: Taliesin Fellowship
DESCRIPTION:The Taliesin Fellowship: more than a school\, this was an apprenticeship program that Frank Lloyd Wright opened in 1932 on the Taliesin estate south of Spring Green. Open to both men and women\, it eventually encompassed close to 70 people (including families) who lived at\, worked in\, and repaired or constructed buildings on the Taliesin estate. They later built Wright's winter home in Arizona (Taliesin West).\n\nMost importantly\, the apprentices worked in Wright's two drafting studios\, and supervised many of his commissions. Members of the Fellowship also reshaped Spring Green: everyone knew summer had arrived when they saw Fellowship member Wes Peters newly arrived from Taliesin West\, walking down the town's main street.\n\nPresenter Information: Keiran Murphy has worked with Taliesin for 30 years\, publishing articles and consulting with authors on Wright and his home. She assisted Paul Hendrickson with Plagued by Fire\, and Ron McCrea with Building Taliesin. In September 2024 she was a recipient of a "Wright Spirit Award" from the Frank Lloyd Wright Building Conservancy.
X-ALT-DESC;FMTTYPE=text/html:<div>\n<p>The Taliesin Fellowship: more than a school\, this was an apprenticeship program that Frank Lloyd Wright opened in 1932 on the Taliesin estate south of Spring Green. Open to both men and women\, it eventually encompassed close to 70 people (including families) who lived at\, worked in\, and repaired or constructed buildings on the Taliesin estate. They later built Wright&#39\;s winter home in Arizona (Taliesin West).</p>\n\n<p>Most importantly\, the apprentices worked in Wright&#39\;s two drafting studios\, and supervised many of his commissions. Members of the Fellowship also reshaped Spring Green: everyone knew summer had arrived when they saw Fellowship member Wes Peters newly arrived from Taliesin West\, walking down the town&#39\;s main street.</p>\n\n<p>Presenter Information: <strong>Keiran Murphy </strong>has worked with Taliesin for 30 years\, publishing articles and consulting with authors on Wright and his home. She assisted Paul Hendrickson with Plagued by Fire\, and Ron McCrea with Building Taliesin. In September 2024 she was a recipient of a &ldquo\;Wright Spirit Award&rdquo\; from the Frank Lloyd Wright Building Conservancy.</p>\n</div>\n
LOCATION:Spring Green Community Library 230 E Monroe Street Spring Green\, WI 53588
UID:e.3298.5409
SEQUENCE:3
DTSTAMP:20260421T084142Z
URL:https://business.springgreen.com/events/details/presentation-taliesin-fellowship-5409
END:VEVENT

END:VCALENDAR
