BEGIN:VCALENDAR
VERSION:2.0
PRODID:-//ChamberMaster//Event Calendar 2.0//EN
METHOD:PUBLISH
X-PUBLISHED-TTL:P3D
REFRESH-INTERVAL:P3D
CALSCALE:GREGORIAN
BEGIN:VEVENT
DTSTART:20260208T160000Z
DTEND:20260209T010000Z
X-MICROSOFT-CDO-ALLDAYEVENT:FALSE
SUMMARY:Pizza Delivery Fundraiser
DESCRIPTION:Arena Fire Department is delivering pizza and other hot goods cooked up by the Crappie Shop.  We deliver to the village and town of Arena.  We will deliver to the county line for Sauk and Dane as well.    Tips go towards new equipment.
X-ALT-DESC;FMTTYPE=text/html:Arena Fire Department is delivering pizza and other hot goods cooked up by the Crappie Shop.&nbsp\; We deliver to the village and town of Arena.&nbsp\; We will deliver to the county line for Sauk and Dane as well.&nbsp\; &nbsp\; Tips go towards new equipment.&nbsp\;&nbsp\;
LOCATION:
UID:e.3298.5263
SEQUENCE:3
DTSTAMP:20260419T132417Z
URL:https://business.springgreen.com/events/details/pizza-delivery-fundraiser-5263
END:VEVENT

END:VCALENDAR
