BEGIN:VCALENDAR
VERSION:2.0
PRODID:-//ChamberMaster//Event Calendar 2.0//EN
METHOD:PUBLISH
X-PUBLISHED-TTL:P3D
REFRESH-INTERVAL:P3D
CALSCALE:GREGORIAN
BEGIN:VEVENT
DTSTART:20260302T160000Z
DTEND:20260407T000000Z
X-MICROSOFT-CDO-ALLDAYEVENT:FALSE
SUMMARY:Peeps on Parade Diorama Contest
DESCRIPTION:It's that time again! Get creative with our 3rd annual marshmallow Peeps diorama-making contest!                            Stop by the library for guidelines\, entry tags and a complimentary package of Peeps!\n\nContest open to all! Prizes awarded in two categories: Tween-Adult (12+) and Child (11 and under)\n\nRegistration required: Click on link below or register in person.\n\nDiorama construction is done at home\, with finished creations due at the library by 7:00PM April 6th.\n\nhttps://forms.gle/u67CArUuFyTEcv8MA
X-ALT-DESC;FMTTYPE=text/html:<p>It&#39\;s that time again! Get creative with our 3rd annual marshmallow Peeps diorama-making contest!&nbsp\; &nbsp\; &nbsp\; &nbsp\; &nbsp\; &nbsp\; &nbsp\; &nbsp\; &nbsp\; &nbsp\; &nbsp\; &nbsp\; &nbsp\; &nbsp\; Stop by the library for guidelines\, entry tags and a complimentary package of Peeps!</p>\n\n<p>Contest open to all! Prizes awarded in two categories: Tween-Adult (12+) and Child (11 and under)</p>\n\n<p><strong>Registration required:&nbsp\;</strong>Click on link below or register in person.</p>\n\n<p>Diorama construction is done at home\, with&nbsp\;<strong>finished creations due at the library by 7:00PM April 6th.</strong></p>\n\n<p><a href="https://forms.gle/u67CArUuFyTEcv8MA" style="box-sizing: border-box\; background-color: transparent\; color: rgb(0\, 119\, 199)\; text-decoration-line: none\;" tabindex="-1">https://forms.gle/u67CArUuFyTEcv8MA</a></p>\n
LOCATION:Spring Green Community Library 230 E Monroe Street Spring Green\, WI 53588
UID:e.3298.5474
SEQUENCE:3
DTSTAMP:20260421T110924Z
URL:https://business.springgreen.com/events/details/peeps-on-parade-diorama-contest-5474
END:VEVENT

END:VCALENDAR
