BEGIN:VCALENDAR
VERSION:2.0
PRODID:-//ChamberMaster//Event Calendar 2.0//EN
METHOD:PUBLISH
X-PUBLISHED-TTL:P3D
REFRESH-INTERVAL:P3D
CALSCALE:GREGORIAN
BEGIN:VEVENT
DTSTART:20260212T150000Z
DTEND:20260212T220000Z
X-MICROSOFT-CDO-ALLDAYEVENT:FALSE
SUMMARY:Paul's Chocolates Sale at Sauk Prairie Hospital
DESCRIPTION:Paul's Chocolate will be in the lobby of the Sauk Prairie Hospital February 12 from 9am-4pm.  A portion of the sales will benefit the Friends of Sauk Prairie Healthcare to support SPH needs.  Skip the line and order online! Visit  www.paulschocolates.com and include "SPH" after your name.  Online orders are due February 10 and Paul will arrange delivery. Paul's Chocolates are produced locally\, contain no preservatives\, and make an excellent Valentine's Day gift!
X-ALT-DESC;FMTTYPE=text/html:<span style="font-size:14px"><span style="font-family:aptos\,sans-serif">Paul&rsquo\;s Chocolate will be in the lobby of the Sauk Prairie Hospital February 12 from 9am-4pm.&nbsp\; A portion of the sales will benefit the Friends of Sauk Prairie Healthcare to support SPH needs. &nbsp\;Skip the line and order online! Visit &nbsp\;<a href="http://www.paulschocolates.com">www.paulschocolates.com</a> and <strong>include &ldquo\;SPH&rdquo\; after your name</strong>.&nbsp\; Online orders are due&nbsp\;</span>February 10 and Paul will arrange delivery.&nbsp\;<span style="font-family:aptos\,sans-serif">Paul&rsquo\;s Chocolates are produced locally\, contain no preservatives\, and make an excellent Valentine&rsquo\;s Day gift!</span></span>
LOCATION:
UID:e.3298.5368
SEQUENCE:3
DTSTAMP:20260421T085149Z
URL:https://business.springgreen.com/events/details/paul-s-chocolates-sale-at-sauk-prairie-hospital-02-12-2026-5368
END:VEVENT

END:VCALENDAR
