BEGIN:VCALENDAR
VERSION:2.0
PRODID:-//ChamberMaster//Event Calendar 2.0//EN
METHOD:PUBLISH
X-PUBLISHED-TTL:P3D
REFRESH-INTERVAL:P3D
CALSCALE:GREGORIAN
BEGIN:VEVENT
DTSTART:20260301T140000Z
DTEND:20260301T180000Z
X-MICROSOFT-CDO-ALLDAYEVENT:FALSE
SUMMARY:Pancake Breakfast
DESCRIPTION:Arena Fire Department is putting on a Pancake breakfast.  Come and Support the Arena Fire Department.  We will have Pancakes\, eggs\, Sausage\, and other tasty items.  Silent Auction items.  Bring your whole family.
X-ALT-DESC;FMTTYPE=text/html:Arena Fire Department is putting on a Pancake breakfast.&nbsp\; Come and Support the Arena Fire Department.&nbsp\; We will have Pancakes\, eggs\, Sausage\, and other tasty items.&nbsp\; Silent Auction items.&nbsp\; Bring your whole family.&nbsp\;&nbsp\;
LOCATION:Arena VFW 514 Willow Street\, Arena\, WI
UID:e.3298.5261
SEQUENCE:3
DTSTAMP:20260421T100819Z
URL:https://business.springgreen.com/events/details/pancake-breakfast-5261
END:VEVENT

END:VCALENDAR
