BEGIN:VCALENDAR
VERSION:2.0
PRODID:-//ChamberMaster//Event Calendar 2.0//EN
METHOD:PUBLISH
X-PUBLISHED-TTL:P3D
REFRESH-INTERVAL:P3D
CALSCALE:GREGORIAN
BEGIN:VEVENT
DTSTART:20260309T160000Z
DTEND:20260309T170000Z
X-MICROSOFT-CDO-ALLDAYEVENT:FALSE
SUMMARY:Oh Baby! Baby Storytime
DESCRIPTION:Enjoy simple stories\, rhymes and songs with your little one in a relaxed space designed for building the framework for early literacy.\n\nThis is a great chance to enjoy some 1:1 time with your baby!
X-ALT-DESC;FMTTYPE=text/html:<p>Enjoy simple stories\, rhymes and songs with your little one in a relaxed space designed for building the framework for early literacy.</p>\n\n<p>This is a great chance to enjoy some 1:1 time with your baby!</p>\n
LOCATION:Spring Green Community Library 230 E Monroe Street Spring Green\, WI 53588
UID:e.3298.5472
SEQUENCE:3
DTSTAMP:20260421T114342Z
URL:https://business.springgreen.com/events/details/oh-baby-baby-storytime-03-09-2026-5472
END:VEVENT

END:VCALENDAR
