BEGIN:VCALENDAR
VERSION:2.0
PRODID:-//ChamberMaster//Event Calendar 2.0//EN
METHOD:PUBLISH
X-PUBLISHED-TTL:P3D
REFRESH-INTERVAL:P3D
CALSCALE:GREGORIAN
BEGIN:VEVENT
DTSTART:20260320T200000Z
DTEND:20260320T230000Z
X-MICROSOFT-CDO-ALLDAYEVENT:FALSE
SUMMARY:Nature Journaling Workshop with Kay Balink
DESCRIPTION:Learn all about "phenology":  the study of cyclic and seasonal natural phenomena\, especially in relation to climate and plant and animal life.  The workshop provides a chance to explore Nature Journaling and get started on developing  your own Phenology Wheel Project.  Beginners are welcome.                                      Snacks\, drinks\, and art supplies are provided (but you can bring more)  Door Prizes                                      Workshop fee:  $25\, paid in advance
X-ALT-DESC;FMTTYPE=text/html:Learn all about &ldquo\;phenology&rdquo\;:&nbsp\; the study of cyclic and seasonal natural phenomena\, especially in relation to climate and plant and animal life.&nbsp\;&nbsp\;The workshop provides a chance to explore Nature Journaling and get started on developing&nbsp\; your own Phenology Wheel Project.&nbsp\;&nbsp\;Beginners are welcome.&nbsp\; &nbsp\; &nbsp\; &nbsp\; &nbsp\; &nbsp\; &nbsp\; &nbsp\; &nbsp\; &nbsp\; &nbsp\; &nbsp\; &nbsp\; &nbsp\; &nbsp\; &nbsp\; &nbsp\; &nbsp\; &nbsp\; Snacks\, drinks\, and art supplies are provided (but you can bring more)&nbsp\; Door Prizes&nbsp\; &nbsp\; &nbsp\; &nbsp\; &nbsp\; &nbsp\; &nbsp\; &nbsp\; &nbsp\; &nbsp\; &nbsp\; &nbsp\; &nbsp\; &nbsp\; &nbsp\; &nbsp\; &nbsp\; &nbsp\; &nbsp\; Workshop fee:&nbsp\; $25\, paid in advance
LOCATION:Spring Green General Store\, 137 S. Albany St.\, Spring Green\, WI 53588
UID:e.3298.5345
SEQUENCE:3
DTSTAMP:20260421T113912Z
URL:https://business.springgreen.com/events/details/nature-journaling-workshop-with-kay-balink-5345
END:VEVENT

END:VCALENDAR
