BEGIN:VCALENDAR
VERSION:2.0
PRODID:-//ChamberMaster//Event Calendar 2.0//EN
METHOD:PUBLISH
X-PUBLISHED-TTL:P3D
REFRESH-INTERVAL:P3D
CALSCALE:GREGORIAN
BEGIN:VEVENT
DTSTART:20260310T180000Z
DTEND:20260310T200000Z
X-MICROSOFT-CDO-ALLDAYEVENT:FALSE
SUMMARY:Movies\, Munchies\, and More: Train Dreams
DESCRIPTION:Every Tuesday at 1pm\, come to the Spring Green Community Library for a sweet treat and a movie. Join us in March to watch some 2026 Oscar Nominees. \n\nMovie Summary: Based on the beloved novella by Denis Johnson\, Train Dreams is the moving portrait of Robert Grainier (Golden Globe-nominee Joel Edgerton)\, whose life unfolds during an era of unprecedented change in early 20th century America. Orphaned at a young age\, Robert grows into adulthood among the towering forests of the Pacific Northwest\, where he helps expand the nation's railroad empire alongside men as unforgettable as the landscapes they inhabit. After a tender courtship\, he marries Gladys (Academy Award-nominee Felicity Jones) and they build a home together\, though his work often takes him far from her and their young daughter. When his life takes an unexpected turn\, Robert finds beauty\, brutality and newfound meaning for the forests and trees he has felled (PG-13\, 1hr 42min\, 2026).
X-ALT-DESC;FMTTYPE=text/html:<div>\n<p><span style="background-color:rgb(255\, 255\, 255)\; color:rgb(43\, 43\, 43)\; font-family:century gothic\,centurygothic\,applegothic\,sans-serif\; font-size:16px">Every Tuesday at 1pm\, come to the Spring Green Community Library for a sweet treat and a movie. Join us in March to watch some 2026 Oscar Nominees.&nbsp\;</span></p>\n\n<p><span style="background-color:rgb(255\, 255\, 255)\; color:rgb(43\, 43\, 43)\; font-family:century gothic\,centurygothic\,applegothic\,sans-serif\; font-size:16px"><strong>Movie Summary:</strong> Based on the beloved novella by Denis Johnson\, Train Dreams is the moving portrait of Robert Grainier (Golden Globe-nominee Joel Edgerton)\, whose life unfolds during an era of unprecedented change in early 20th century America. Orphaned at a young age\, Robert grows into adulthood among the towering forests of the Pacific Northwest\, where he helps expand the nation&#39\;s railroad empire alongside men as unforgettable as the landscapes they inhabit. After a tender courtship\, he marries Gladys (Academy Award-nominee Felicity Jones) and they build a home together\, though his work often takes him far from her and their young daughter. When his life takes an unexpected turn\, Robert finds beauty\, brutality and newfound meaning for the forests and trees he has felled (PG-13\, 1hr 42min\, 2026).</span></p>\n</div>\n
LOCATION:Spring Green Community Library 230 E Monroe Street Spring Green\, WI 53588
UID:e.3298.5458
SEQUENCE:3
DTSTAMP:20260421T112254Z
URL:https://business.springgreen.com/events/details/movies-munchies-and-more-train-dreams-5458
END:VEVENT

END:VCALENDAR
