BEGIN:VCALENDAR
VERSION:2.0
PRODID:-//ChamberMaster//Event Calendar 2.0//EN
METHOD:PUBLISH
X-PUBLISHED-TTL:P3D
REFRESH-INTERVAL:P3D
CALSCALE:GREGORIAN
BEGIN:VEVENT
DTSTART:20260224T190000Z
DTEND:20260224T210000Z
X-MICROSOFT-CDO-ALLDAYEVENT:FALSE
SUMMARY:Movies\, Munchies\, and More: Crazy\, Stupid\, Love
DESCRIPTION:Every Tuesday at 1pm\, come to the Spring Green Community Library for a sweet treat and a movie. Join us in February for some amazing Rom-Coms. \n\nMovies Summary: Cal Weaver (Steve Carell) is living the American dream. He has a good job\, a beautiful house\, great children and a beautiful wife\, named Emily (Julianne Moore). Cal's seemingly perfect life unravels\, however\, when he learns that Emily has been unfaithful and wants a divorce. Over 40 and suddenly single\, Cal is adrift in the fickle world of dating. Enter\, Jacob Palmer (Ryan Gosling)\, a self-styled player who takes Cal under his wing and teaches him how to be a hit with the ladies (PG-13\, 1hr 58min\, 20
X-ALT-DESC;FMTTYPE=text/html:<p>Every Tuesday at 1pm\, come to the Spring Green Community Library for a sweet treat and a movie. Join us in February for some amazing Rom-Coms.&nbsp\;</p>\n\n<p><strong>Movies Summary</strong>: Cal Weaver (Steve Carell) is living the American dream. He has a good job\, a beautiful house\, great children and a beautiful wife\, named Emily (Julianne Moore). Cal&#39\;s seemingly perfect life unravels\, however\, when he learns that Emily has been unfaithful and wants a divorce. Over 40 and suddenly single\, Cal is adrift in the fickle world of dating. Enter\, Jacob Palmer (Ryan Gosling)\, a self-styled player who takes Cal under his wing and teaches him how to be a hit with the ladies (PG-13\, 1hr 58min\, 20</p>\n
LOCATION:Spring Green Community Library 230 E Monroe Street Spring Green\, WI 53588
UID:e.3298.5411
SEQUENCE:3
DTSTAMP:20260421T085038Z
URL:https://business.springgreen.com/events/details/movies-munchies-and-more-crazy-stupid-love-5411
END:VEVENT

END:VCALENDAR
