BEGIN:VCALENDAR
VERSION:2.0
PRODID:-//ChamberMaster//Event Calendar 2.0//EN
METHOD:PUBLISH
X-PUBLISHED-TTL:P3D
REFRESH-INTERVAL:P3D
CALSCALE:GREGORIAN
BEGIN:VEVENT
DTSTART:20260303T190000Z
DTEND:20260303T210000Z
X-MICROSOFT-CDO-ALLDAYEVENT:FALSE
SUMMARY:Movies\, Munchies\, and More: Always be my Maybe
DESCRIPTION:Every Tuesday at 1pm\, come to the Spring Green Community Library for a sweet treat and a movie. Join us in March to watch some 2026 Oscar Nominees\, but first this last Rom-Com!\n\nMovie Summary: Childhood sweethearts have a falling out and don't speak for 15 years. They reconnect as adults when Sasha runs into Marcus in San Francisco. Although the old sparks are still there\, the couple live in different worlds (PG-13\, 1hr 42 min\, 2019).
X-ALT-DESC;FMTTYPE=text/html:<p><span style="color:rgb(43\, 43\, 43)">Every Tuesday at 1pm\, come to the Spring Green Community Library for a sweet treat and a movie. Join us in March to watch some 2026 Oscar Nominees\, but first this last Rom-Com!</span></p>\n\n<p><span style="color:rgb(43\, 43\, 43)"><strong>Movie Summary</strong>: Childhood sweethearts have a falling out and don&#39\;t speak for 15 years. They reconnect as adults when Sasha runs into Marcus in San Francisco. Although the old sparks are still there\, the couple live in different worlds (PG-13\, 1hr 42 min\, 2019).</span></p>\n
LOCATION:Spring Green Community Library 230 E Monroe Street Spring Green\, WI 53588
UID:e.3298.5434
SEQUENCE:3
DTSTAMP:20260421T114343Z
URL:https://business.springgreen.com/events/details/movies-munchies-and-more-always-be-my-maybe-5434
END:VEVENT

END:VCALENDAR
