BEGIN:VCALENDAR
VERSION:2.0
PRODID:-//ChamberMaster//Event Calendar 2.0//EN
METHOD:PUBLISH
X-PUBLISHED-TTL:P3D
REFRESH-INTERVAL:P3D
CALSCALE:GREGORIAN
BEGIN:VEVENT
DTSTART:20260311T000000Z
DTEND:20260311T010000Z
X-MICROSOFT-CDO-ALLDAYEVENT:FALSE
SUMMARY:Library Trivia
DESCRIPTION:Are you up for the challenge? Come by yourself or bring a team of up to 4 teens or adults to see if you can beat the Spring Green Community Library's Trivia. Themes will change with each session. Bragging rights to the winners!
X-ALT-DESC;FMTTYPE=text/html:<span style="background-color:rgb(255\, 255\, 255)\; color:rgb(43\, 43\, 43)\; font-family:century gothic\,centurygothic\,applegothic\,sans-serif\; font-size:16px">Are you up for the challenge? Come by yourself or bring a team of up to 4 teens or adults to see if you can beat the Spring Green Community Library&#39\;s Trivia. Themes will change with each session. Bragging rights to the winners!</span>
LOCATION:Spring Green Community Library 230 E Monroe Street Spring Green\, WI 53588
UID:e.3298.5417
SEQUENCE:3
DTSTAMP:20260421T101855Z
URL:https://business.springgreen.com/events/details/library-trivia-03-10-2026-5417
END:VEVENT

END:VCALENDAR
