BEGIN:VCALENDAR
VERSION:2.0
PRODID:-//ChamberMaster//Event Calendar 2.0//EN
METHOD:PUBLISH
X-PUBLISHED-TTL:P3D
REFRESH-INTERVAL:P3D
CALSCALE:GREGORIAN
BEGIN:VEVENT
DTSTART:20260219T220000Z
DTEND:20260219T230000Z
X-MICROSOFT-CDO-ALLDAYEVENT:FALSE
SUMMARY:LEGO Challenge
DESCRIPTION:Can you meet the challenge? We'll have one hour to create a unique Lego creation that meets the challenge prompt. Then we'll share our creations and display them in the library!\n\nLarger Duplo blocks will also be available for youngest participants.\n\nKids of all ages
X-ALT-DESC;FMTTYPE=text/html:<div>\n<p style="text-align:start">Can you meet the challenge? We&#39\;ll have one hour to create a unique Lego creation that meets the challenge prompt. Then we&#39\;ll share our creations and display them in the library!</p>\n\n<p style="text-align:start">Larger Duplo blocks will also be available for youngest participants.</p>\n\n<p style="text-align:start">Kids of all ages</p>\n</div>\n
LOCATION:Spring Green Community Library 230 E Monroe Street Spring Green\, WI 53588
UID:e.3298.5408
SEQUENCE:3
DTSTAMP:20260421T082423Z
URL:https://business.springgreen.com/events/details/lego-challenge-02-19-2026-5408
END:VEVENT

END:VCALENDAR
