BEGIN:VCALENDAR
VERSION:2.0
PRODID:-//ChamberMaster//Event Calendar 2.0//EN
METHOD:PUBLISH
X-PUBLISHED-TTL:P3D
REFRESH-INTERVAL:P3D
CALSCALE:GREGORIAN
BEGIN:VEVENT
DTSTART:20260321T133000Z
DTEND:20260321T170000Z
X-MICROSOFT-CDO-ALLDAYEVENT:FALSE
SUMMARY:Introduction to Permaculture Design
DESCRIPTION:Permaculture is a design process that uses ecological principles to create healthy and resilient food systems and communities.?In this interactive workshop\, you will learn about permaculture?basics\, what are ecological and permaculture principles\, and how these principles are applied to garden design. You will also learn organic garden techniques (including from the Kitchen Garden at Taliesin) that can be adapted to your property. Learn new ideas to get your gardens?ready for spring!
X-ALT-DESC;FMTTYPE=text/html:Permaculture is a design process that uses ecological principles to create healthy and resilient food systems and communities.?In this interactive workshop\, you will learn about permaculture?basics\, what are ecological and permaculture principles\, and how these principles are applied to garden design. You will also learn organic garden techniques (including from the Kitchen Garden at Taliesin) that can be adapted to your property. Learn new ideas to get your gardens?ready for spring!
LOCATION:Frank Lloyd Wright Visitor Center
UID:e.3298.5401
SEQUENCE:3
DTSTAMP:20260421T101832Z
URL:https://business.springgreen.com/events/details/introduction-to-permaculture-design-5401
END:VEVENT

END:VCALENDAR
