BEGIN:VCALENDAR
VERSION:2.0
PRODID:-//ChamberMaster//Event Calendar 2.0//EN
METHOD:PUBLISH
X-PUBLISHED-TTL:P3D
REFRESH-INTERVAL:P3D
CALSCALE:GREGORIAN
BEGIN:VEVENT
DTSTART:20260309T180000Z
DTEND:20260309T200000Z
X-MICROSOFT-CDO-ALLDAYEVENT:FALSE
SUMMARY:Homeschool Hangout
DESCRIPTION:Meet other area Homeschoolers for a casual afternoon of games\, seasonally themed activities\, snacks and fellowship.
X-ALT-DESC;FMTTYPE=text/html:<span style="color:rgb(36\, 36\, 36)\; font-family:century gothic\,centurygothic\,applegothic\,sans-serif\; font-size:16px">Meet other area Homeschoolers for a casual afternoon of games\, seasonally themed activities\, snacks and fellowship.&nbsp\;</span>
LOCATION:Spring Green Community Library 230 E Monroe Street Spring Green\, WI 53588
UID:e.3298.5473
SEQUENCE:3
DTSTAMP:20260421T114209Z
URL:https://business.springgreen.com/events/details/homeschool-hangout-03-09-2026-5473
END:VEVENT

END:VCALENDAR
