BEGIN:VCALENDAR
VERSION:2.0
PRODID:-//ChamberMaster//Event Calendar 2.0//EN
METHOD:PUBLISH
X-PUBLISHED-TTL:P3D
REFRESH-INTERVAL:P3D
CALSCALE:GREGORIAN
BEGIN:VEVENT
DTSTART:20260223T190000Z
DTEND:20260223T210000Z
X-MICROSOFT-CDO-ALLDAYEVENT:FALSE
SUMMARY:Homeschool Hangout
DESCRIPTION:Connect with other area homeschoolers for fun themed or seasonal activities\, snacks and camaraderie.
X-ALT-DESC;FMTTYPE=text/html:Connect with other area homeschoolers for fun themed or seasonal activities\, snacks and camaraderie.
LOCATION:Spring Green Community Library 230 E Monroe Street Spring Green WI 53588
UID:e.3298.5410
SEQUENCE:3
DTSTAMP:20260421T082829Z
URL:https://business.springgreen.com/events/details/homeschool-hangout-02-23-2026-5410
END:VEVENT

END:VCALENDAR
