BEGIN:VCALENDAR
VERSION:2.0
PRODID:-//ChamberMaster//Event Calendar 2.0//EN
METHOD:PUBLISH
X-PUBLISHED-TTL:P3D
REFRESH-INTERVAL:P3D
CALSCALE:GREGORIAN
BEGIN:VEVENT
DTSTART:20260718T000000Z
DTEND:20260718T020000Z
X-MICROSOFT-CDO-ALLDAYEVENT:FALSE
SUMMARY:Heartland Marimba: Hillside Theater at Taliesin
DESCRIPTION:Join Heartland Marimba at Hillside Theater at Taliesin for an exciting program drawing from their eclectic repertoire they've built over the last 10 years of touring. The program will include works by company artists Matthew Coley and Marco Schirripa from the "Dark Skies and Distant Worlds" production\, as well as captivating adaptations of music by Bach\, Mendelssohn\, and Liszt. All the music Heartland Marimba tours with is published by HM Publications and supports their cyclical mission\, ensuring a sonorous future for the marimba art form.
X-ALT-DESC;FMTTYPE=text/html:Join Heartland Marimba at Hillside Theater at Taliesin for an exciting program drawing from their eclectic repertoire they&#39\;ve built over the last 10 years of touring. The program will include works by company artists Matthew Coley and Marco Schirripa from the &quot\;Dark Skies and Distant Worlds&quot\; production\, as well as captivating adaptations of music by Bach\, Mendelssohn\, and Liszt. All the music Heartland Marimba tours with is published by HM Publications and supports their cyclical mission\, ensuring a sonorous future for the marimba art form.&nbsp\;
LOCATION:Hillside Theater
UID:e.3298.5562
SEQUENCE:3
DTSTAMP:20260421T155449Z
URL:https://business.springgreen.com/events/details/heartland-marimba-hillside-theater-at-taliesin-07-17-2026-5562
END:VEVENT

END:VCALENDAR
