BEGIN:VCALENDAR
VERSION:2.0
PRODID:-//ChamberMaster//Event Calendar 2.0//EN
METHOD:PUBLISH
X-PUBLISHED-TTL:P3D
REFRESH-INTERVAL:P3D
CALSCALE:GREGORIAN
BEGIN:VEVENT
DTSTART:20261207T160000Z
DTEND:20261207T220000Z
X-MICROSOFT-CDO-ALLDAYEVENT:FALSE
SUMMARY:Friends of the Library Book Sale
DESCRIPTION:Join the Friends of the Spring Green Community Library for our annual Bake & Book Sale. The main sale day - to include baked goods - is on Saturday\, December 5th from 9am-2pm. The book sale (without baked goods) continues on Monday\, December 7th from 10am-4pm. Shop gently used current fiction\, non-fiction\, coffee table books\, cookbooks\, seasonal craft books\, children's books\, etc. We'll also have a selection of puzzles and DVDs. All proceeds support the Spring Green Community Library!
X-ALT-DESC;FMTTYPE=text/html:<p>Join the Friends of the Spring Green Community Library for our annual Bake &amp\; Book Sale. The main sale day - to include baked goods - is on Saturday\, December 5th from 9am-2pm. <strong>The book sale (without baked goods) continues on Monday\, December 7th from 10am-4pm.&nbsp\;</strong>Shop gently used current fiction\, non-fiction\, coffee table books\, cookbooks\, seasonal craft books\, children&rsquo\;s books\, etc. We&rsquo\;ll also have a selection of puzzles and DVDs. All proceeds support the Spring Green Community Library!</p>\n
LOCATION:Spring Green Community Library 230 E Monroe Street Spring Green WI 53588
UID:e.3298.5549
SEQUENCE:3
DTSTAMP:20260421T231915Z
URL:https://business.springgreen.com/events/details/friends-of-the-library-book-sale-12-07-2026-5549
END:VEVENT

END:VCALENDAR
