BEGIN:VCALENDAR
VERSION:2.0
PRODID:-//ChamberMaster//Event Calendar 2.0//EN
METHOD:PUBLISH
X-PUBLISHED-TTL:P3D
REFRESH-INTERVAL:P3D
CALSCALE:GREGORIAN
BEGIN:VEVENT
DTSTART;VALUE=DATE:20260711
DTEND;VALUE=DATE:20260712
TRANSP:TRANSPARENT
X-MICROSOFT-CDO-ALLDAYEVENT:TRUE
SUMMARY:Friends of the Library Book Rummage Sale & Headquarters of Community-Wide Garage Sale
DESCRIPTION:Join the Friends of the Spring Green Community Library for their Book Rummage Sale\, part of the annual Community-Wide Garage Sale! Shop fiction\, non-fiction\, coffee table books\, cookbooks\, children's books\, puzzles\, DVDs\, and more. We will also have coffee and treats available for purchase during the sale. All proceeds benefit the Spring Green Community Library!\n\n\n	Thursday\, July 9: 2:00pm-8:00pm\n	Friday\, July 10: 8:00am-8:00pm\n	Saturday\, July 11: 8:00am-1:00pm\n\n\nThe Book Rummage serves as the headquarters of the Community-Wide Garage Sale. Please stop in - not only to shop our books and treats - but to pick up a map for the community-wide event.
X-ALT-DESC;FMTTYPE=text/html:<p>Join the Friends of the Spring Green Community Library for their Book Rummage Sale\, part of the annual Community-Wide Garage Sale! <strong>Shop fiction\, non-fiction\, coffee table books\, cookbooks\, children&rsquo\;s books\, puzzles\, DVDs\, and more. We will also have coffee and treats available for purchase during the sale. </strong>All proceeds benefit the Spring Green Community Library!</p>\n\n<ul>\n	<li>Thursday\, July 9: 2:00pm-8:00pm</li>\n	<li>Friday\, July 10: 8:00am-8:00pm</li>\n	<li>Saturday\, July 11: 8:00am-1:00pm</li>\n</ul>\n\n<p>The Book Rummage serves as the headquarters of the Community-Wide Garage Sale. Please stop in - not only to shop our books and treats - but to pick up a map for the community-wide event.</p>\n
LOCATION:
UID:e.3298.5552
SEQUENCE:3
DTSTAMP:20260421T155606Z
URL:https://business.springgreen.com/events/details/friends-of-the-library-book-rummage-sale-headquarters-of-community-wide-garage-sale-07-11-2026-5552
END:VEVENT

END:VCALENDAR
