BEGIN:VCALENDAR
VERSION:2.0
PRODID:-//ChamberMaster//Event Calendar 2.0//EN
METHOD:PUBLISH
X-PUBLISHED-TTL:P3D
REFRESH-INTERVAL:P3D
CALSCALE:GREGORIAN
BEGIN:VEVENT
DTSTART:20261205T150000Z
DTEND:20261205T200000Z
X-MICROSOFT-CDO-ALLDAYEVENT:FALSE
SUMMARY:Friends of the Library Bake & Book Sale
DESCRIPTION:Join the Friends of the Spring Green Community Library for our annual Bake & Book Sale on Saturday\, December 5th from 9am-2pm. Friends members get first access starting at 8:30am!  Shop gently used current fiction\, non-fiction\, coffee table books\, cookbooks\, seasonal craft books\, children's books\, etc. in addition to a wide assortment of delicious baked goods! We'll also have a selection of puzzles and DVDs. You won't want to miss this festive event - all proceeds support the Spring Green Community Library!\n\n\n\n?If you're not able to make it on Saturday\, the sale continues on Monday\, December 7th from 10am-4pm (without baked goods).
X-ALT-DESC;FMTTYPE=text/html:<p>Join the Friends of the Spring Green Community Library for our annual Bake &amp\; Book Sale on Saturday\, December 5th from 9am-2pm.&nbsp\;<strong>Friends members get first access starting at 8:30am!</strong>&nbsp\;&nbsp\;Shop gently used current fiction\, non-fiction\, coffee table books\, cookbooks\, seasonal craft books\, children&rsquo\;s books\, etc. in addition to a wide assortment of delicious baked goods! We&rsquo\;ll also have a selection of puzzles and DVDs. You won&rsquo\;t want to miss this festive event - all proceeds support the Spring Green Community Library!<br />\n<br />\n?If you&rsquo\;re not able to make it on Saturday\, the sale continues on Monday\, December 7th from 10am-4pm (without baked goods).</p>\n
LOCATION:Spring Green Community Library 230 E Monroe Street Spring Green WI 53588
UID:e.3298.5548
SEQUENCE:3
DTSTAMP:20260421T231834Z
URL:https://business.springgreen.com/events/details/friends-of-the-library-bake-book-sale-12-05-2026-5548
END:VEVENT

END:VCALENDAR
