BEGIN:VCALENDAR
VERSION:2.0
PRODID:-//ChamberMaster//Event Calendar 2.0//EN
METHOD:PUBLISH
X-PUBLISHED-TTL:P3D
REFRESH-INTERVAL:P3D
CALSCALE:GREGORIAN
BEGIN:VEVENT
DTSTART:20260224T060000Z
DTEND:20260224T060000Z
X-MICROSOFT-CDO-ALLDAYEVENT:FALSE
SUMMARY:Evening Book Discussion
DESCRIPTION:Join us for an evening discussion of this month's Book Discussion pick. We will meet at different locations within the Village of Spring Green. Looking forward to chatting about the pick. \n\nFebruary Book: "Night Circus" by Erin Morgenstern \n\nFebruary Location: The Shed Bar & Grill
X-ALT-DESC;FMTTYPE=text/html:<p><span style="background-color:rgb(255\, 255\, 255)\; color:rgb(43\, 43\, 43)\; font-family:century gothic\,centurygothic\,applegothic\,sans-serif\; font-size:16px">Join us for an evening discussion of this month&#39\;s Book Discussion pick. We will meet at different locations within the Village of Spring Green. Looking forward to chatting about the pick.&nbsp\;</span></p>\n\n<p><span style="background-color:rgb(255\, 255\, 255)\; color:rgb(43\, 43\, 43)\; font-family:century gothic\,centurygothic\,applegothic\,sans-serif\; font-size:16px">February Book: &quot\;Night Circus&quot\; by Erin Morgenstern&nbsp\;</span></p>\n\n<p><span style="background-color:rgb(255\, 255\, 255)\; color:rgb(43\, 43\, 43)\; font-family:century gothic\,centurygothic\,applegothic\,sans-serif\; font-size:16px">February Location: The Shed Bar &amp\; Grill</span></p>\n
LOCATION:The Shed Bar & Grill 123 N. Lexington Street Spring Green\, WI 53588
UID:e.3298.5412
SEQUENCE:3
DTSTAMP:20260421T084345Z
URL:https://business.springgreen.com/events/details/evening-book-discussion-02-24-2026-5412
END:VEVENT

END:VCALENDAR
