BEGIN:VCALENDAR
VERSION:2.0
PRODID:-//ChamberMaster//Event Calendar 2.0//EN
METHOD:PUBLISH
X-PUBLISHED-TTL:P3D
REFRESH-INTERVAL:P3D
CALSCALE:GREGORIAN
BEGIN:VEVENT
DTSTART:20260211T203000Z
DTEND:20260211T220000Z
X-MICROSOFT-CDO-ALLDAYEVENT:FALSE
SUMMARY:DIY Valentines: Card Crafting drop-in
DESCRIPTION:We'll have lots of valentine-themed cards-making supplies. Make some valentines for friends and family\, or make a random person's day!\n\nYou'll also be able to add a few to a sharing basket that library staff will deliver to Seniors at area assisted living facilities.\n\nAll-ages welcome\n\nFeel free to add your own supplies to our mix!
X-ALT-DESC;FMTTYPE=text/html:<div>\n<p>We&#39\;ll have lots of valentine-themed cards-making supplies. Make some valentines for friends and family\, or make a random person&#39\;s day!</p>\n\n<p>You&#39\;ll also be able to add a few to a sharing basket that library staff will deliver to Seniors at area assisted living facilities.</p>\n\n<p>All-ages welcome</p>\n\n<p>Feel free to add your own supplies to our mix!</p>\n</div>\n
LOCATION:Spring Green Community Library 230 E Monroe Street Spring Green\, WI 53588
UID:e.3298.5406
SEQUENCE:3
DTSTAMP:20260421T084500Z
URL:https://business.springgreen.com/events/details/diy-valentines-card-crafting-drop-in-5406
END:VEVENT

END:VCALENDAR
