BEGIN:VCALENDAR
VERSION:2.0
PRODID:-//ChamberMaster//Event Calendar 2.0//EN
METHOD:PUBLISH
X-PUBLISHED-TTL:P3D
REFRESH-INTERVAL:P3D
CALSCALE:GREGORIAN
BEGIN:VEVENT
DTSTART:20260318T193000Z
DTEND:20260318T210000Z
X-MICROSOFT-CDO-ALLDAYEVENT:FALSE
SUMMARY:Crafty Kids: Kids Sew
DESCRIPTION:Join us for a guided sewing project\, or work on a project of your own design.                                                           There will be opportunities for both hand sewing and machine practice.\n\nNo sewing experience necessary. Best for ages 6 and up. Registration required.\n\nhttps://forms.gle/5fSKHT55nzvBPW9T8
X-ALT-DESC;FMTTYPE=text/html:<div>\n<p>Join us for a guided sewing project\, or work on a project of your own design.&nbsp\; &nbsp\; &nbsp\; &nbsp\; &nbsp\; &nbsp\; &nbsp\; &nbsp\; &nbsp\; &nbsp\; &nbsp\; &nbsp\; &nbsp\; &nbsp\; &nbsp\; &nbsp\; &nbsp\; &nbsp\; &nbsp\; &nbsp\; &nbsp\; &nbsp\; &nbsp\; &nbsp\; &nbsp\; &nbsp\; &nbsp\; &nbsp\; &nbsp\; &nbsp\;There will be opportunities for both hand sewing and machine practice.</p>\n\n<p>No sewing experience necessary. Best for ages 6 and up. Registration required.</p>\n\n<p><a href="https://forms.gle/5fSKHT55nzvBPW9T8" tabindex="-1">https://forms.gle/5fSKHT55nzvBPW9T8</a></p>\n</div>\n
LOCATION:Spring Green Community Library 230 E Monroe Street Spring Green\, WI 53588
UID:e.3298.5430
SEQUENCE:3
DTSTAMP:20260421T102125Z
URL:https://business.springgreen.com/events/details/crafty-kids-kids-sew-5430
END:VEVENT

END:VCALENDAR
