BEGIN:VCALENDAR
VERSION:2.0
PRODID:-//ChamberMaster//Event Calendar 2.0//EN
METHOD:PUBLISH
X-PUBLISHED-TTL:P3D
REFRESH-INTERVAL:P3D
CALSCALE:GREGORIAN
BEGIN:VEVENT
DTSTART:20260826T190000Z
DTEND:20260826T200000Z
X-MICROSOFT-CDO-ALLDAYEVENT:FALSE
SUMMARY:Book Discussion
DESCRIPTION:Join us at 2pm on a Wednesday for a cup of coffee\, snack\, and a chat about this month's selection. The book is available at the Library a month before the discussion.\n\nMay 27: "There Is No Place for Us: Working and Homeless in America" by Brian Goldstone\n\nJune 24: "The Listeners" by Maggie Stiefvater \n\nJuly 22: "Marriage at Sea: A True Story of Love\, Obsession\, and Shipwreck" by Sophie Elmhirst\n\nAugust 26: "Culpability" by Bruce Holsinger
X-ALT-DESC;FMTTYPE=text/html:<p><span style="color:rgb(43\, 43\, 43)">Join us at 2pm on a Wednesday for a cup of coffee\, snack\, and a chat about this month&#39\;s selection. The book is available at the Library a month before the discussion.</span></p>\n\n<p><span style="color:rgb(43\, 43\, 43)">May 27: &quot\;There Is No Place for Us: Working and Homeless in America&quot\; by Brian Goldstone</span></p>\n\n<p><span style="color:rgb(43\, 43\, 43)">June 24: &quot\;The Listeners&quot\; by Maggie Stiefvater&nbsp\;</span></p>\n\n<p><span style="color:rgb(43\, 43\, 43)">July 22: &quot\;Marriage at Sea: A True Story of Love\, Obsession\, and Shipwreck&quot\; by Sophie Elmhirst</span></p>\n\n<p><span style="color:rgb(43\, 43\, 43)">August 26: &quot\;Culpability&quot\; by Bruce Holsinger</span></p>\n
LOCATION:Spring Green Community Library 230 E Monroe Street Spring Green\, WI 53588
UID:e.3298.5568
SEQUENCE:3
DTSTAMP:20260422T004836Z
URL:https://business.springgreen.com/events/details/book-discussion-08-26-2026-5568
END:VEVENT

END:VCALENDAR
