BEGIN:VCALENDAR
VERSION:2.0
PRODID:-//ChamberMaster//Event Calendar 2.0//EN
METHOD:PUBLISH
X-PUBLISHED-TTL:P3D
REFRESH-INTERVAL:P3D
CALSCALE:GREGORIAN
BEGIN:VEVENT
DTSTART:20260830T160000Z
DTEND:20260830T220000Z
X-MICROSOFT-CDO-ALLDAYEVENT:FALSE
SUMMARY:BeatleFest
DESCRIPTION:We'll celebrate the music of the Beatles outdoors in the back yard from 11 am to 5 pm-ish on Sunday\, August 30th.  There will be a special Beatle-themed Menu served from 11 am on along with Lake Louie Beer\, The Cider Farm\, BeatleFest tee shirts and pint glasses.  Bring a chair and maybe some bug spray.  There is no charge for the Festival\, but please\, no carry ins. All  you need is LOVE!
X-ALT-DESC;FMTTYPE=text/html:We&#39\;ll celebrate the music of the Beatles outdoors in the back yard from 11 am to 5 pm-ish on Sunday\, August 30th.&nbsp\; There will be a special Beatle-themed Menu served from 11 am on along with Lake Louie Beer\, The Cider Farm\, BeatleFest tee shirts and pint glasses.&nbsp\; Bring a chair and maybe some bug spray.&nbsp\; There is no charge for the Festival\, but please\, no carry ins. All&nbsp\; you need is LOVE!
LOCATION:Spring Green General Store\, 137 S. Albany St.\, Spring Green\, WI 53588
UID:e.3298.5373
SEQUENCE:3
DTSTAMP:20260421T174430Z
URL:https://business.springgreen.com/events/details/beatlefest-08-30-2026-5373
END:VEVENT

END:VCALENDAR
