BEGIN:VCALENDAR
VERSION:2.0
PRODID:-//ChamberMaster//Event Calendar 2.0//EN
METHOD:PUBLISH
X-PUBLISHED-TTL:P3D
REFRESH-INTERVAL:P3D
CALSCALE:GREGORIAN
BEGIN:VEVENT
DTSTART:20260509T190000Z
DTEND:20260509T210000Z
X-MICROSOFT-CDO-ALLDAYEVENT:FALSE
SUMMARY:Basic Gardening Workshop
DESCRIPTION:Gardeners are invited to attend the Basic Gardening Workshop at the River Valley Area Community Gardens on Saturday\, May 9\, 2-4PM.  All gardeners are welcome whether or not they have a plot at the Gardens.  Doug Rouse will be demonstrating garden techniques and answering questions.  Bring you own chair.  RVACG is located at 900 N Westmor\, Spring Green (south of Ring Brothers Classic Auto).
X-ALT-DESC;FMTTYPE=text/html:<p>Gardeners are invited to attend the Basic Gardening Workshop at the River Valley Area Community Gardens on Saturday\, May 9\, 2-4PM.&nbsp\; All gardeners are welcome whether or not they have a plot at the Gardens.&nbsp\; Doug Rouse will be demonstrating garden techniques and answering questions.&nbsp\; Bring you own chair.&nbsp\; RVACG is located at 900 N Westmor\, Spring Green (south of Ring Brothers Classic Auto).</p>\n
LOCATION:River Valley Area Community Gardens\, 900 block N Westmor (south of Ring Brothers Classic Autos).
UID:e.3298.5558
SEQUENCE:3
DTSTAMP:20260421T123838Z
URL:https://business.springgreen.com/events/details/basic-gardening-workshop-5558
END:VEVENT

END:VCALENDAR
