BEGIN:VCALENDAR
VERSION:2.0
PRODID:-//ChamberMaster//Event Calendar 2.0//EN
METHOD:PUBLISH
X-PUBLISHED-TTL:P3D
REFRESH-INTERVAL:P3D
CALSCALE:GREGORIAN
BEGIN:VEVENT
DTSTART:20260613T140000Z
DTEND:20260613T210000Z
X-MICROSOFT-CDO-ALLDAYEVENT:FALSE
SUMMARY:5th Annual Taekwondo Tournament
DESCRIPTION:Lion's Den Taekwondo to Host 5th Annual Invitational Tournament in Spring Green\n\nSpring Green\, WI   June 13\, 2026   Lion's Den Taekwondo is proud to announce the 5th Annual Lion's Den Taekwondo Invitational Tournament\, taking place at River Valley High School.\n\nThis highly anticipated event will bring together martial artists of all ages and skill levels for a full day of competition\, camaraderie\, and high-energy performances. Participants will compete in a variety of divisions including sparring\, forms\, weapons forms\, and breaking. Special divisions are also available for Little Lions (youth beginners) and Kumdo practitioners.\n\nNew for 2026\, the tournament will feature exciting spectator-friendly events such as an Axe Throw Competition and a Push-Up Challenge\, offering additional opportunities for athletes and attendees to test their skills and win exclusive prizes.\n\nDoors open at 8:00 AM\, with Black Belt divisions kicking off the day's events. Competitors and spectators can also enjoy a full concession stand and browse a well-stocked equipment table throughout the event.
X-ALT-DESC;FMTTYPE=text/html:<h1 style="text-align: center\;"><strong>Lion&rsquo\;s Den Taekwondo to Host 5th Annual Invitational Tournament in Spring Green</strong></h1>\n\n<p><strong>Spring Green\, WI &mdash\; June 13\, 2026</strong> &mdash\; Lion&rsquo\;s Den Taekwondo is proud to announce the 5th Annual Lion&rsquo\;s Den Taekwondo Invitational Tournament\, taking place at River Valley High School.</p>\n\n<p>This highly anticipated event will bring together martial artists of all ages and skill levels for a full day of competition\, camaraderie\, and high-energy performances. Participants will compete in a variety of divisions including sparring\, forms\, weapons forms\, and breaking. Special divisions are also available for Little Lions (youth beginners) and Kumdo practitioners.</p>\n\n<p>New for 2026\, the tournament will feature exciting spectator-friendly events such as an Axe Throw Competition and a Push-Up Challenge\, offering additional opportunities for athletes and attendees to test their skills and win exclusive prizes.</p>\n\n<p>Doors open at 8:00 AM\, with Black Belt divisions kicking off the day&rsquo\;s events. Competitors and spectators can also enjoy a full concession stand and browse a well-stocked equipment table throughout the event.</p>\n
LOCATION:River Valley High School Spring Green\, WI
UID:e.3298.5560
SEQUENCE:3
DTSTAMP:20260421T141335Z
URL:https://business.springgreen.com/events/details/5th-annual-taekwondo-tournament-5560
END:VEVENT

END:VCALENDAR
